BEGIN:VCALENDAR
VERSION:2.0
PRODID:-//Community in Crisis - ECPv6.15.20//NONSGML v1.0//EN
CALSCALE:GREGORIAN
METHOD:PUBLISH
X-WR-CALNAME:Community in Crisis
X-ORIGINAL-URL:https://communityincrisis.org
X-WR-CALDESC:Events for Community in Crisis
REFRESH-INTERVAL;VALUE=DURATION:PT1H
X-Robots-Tag:noindex
X-PUBLISHED-TTL:PT1H
BEGIN:VTIMEZONE
TZID:America/New_York
BEGIN:DAYLIGHT
TZOFFSETFROM:-0500
TZOFFSETTO:-0400
TZNAME:EDT
DTSTART:20200308T070000
END:DAYLIGHT
BEGIN:STANDARD
TZOFFSETFROM:-0400
TZOFFSETTO:-0500
TZNAME:EST
DTSTART:20201101T060000
END:STANDARD
BEGIN:DAYLIGHT
TZOFFSETFROM:-0500
TZOFFSETTO:-0400
TZNAME:EDT
DTSTART:20210314T070000
END:DAYLIGHT
BEGIN:STANDARD
TZOFFSETFROM:-0400
TZOFFSETTO:-0500
TZNAME:EST
DTSTART:20211107T060000
END:STANDARD
BEGIN:DAYLIGHT
TZOFFSETFROM:-0500
TZOFFSETTO:-0400
TZNAME:EDT
DTSTART:20220313T070000
END:DAYLIGHT
BEGIN:STANDARD
TZOFFSETFROM:-0400
TZOFFSETTO:-0500
TZNAME:EST
DTSTART:20221106T060000
END:STANDARD
BEGIN:DAYLIGHT
TZOFFSETFROM:-0500
TZOFFSETTO:-0400
TZNAME:EDT
DTSTART:20230312T070000
END:DAYLIGHT
BEGIN:STANDARD
TZOFFSETFROM:-0400
TZOFFSETTO:-0500
TZNAME:EST
DTSTART:20231105T060000
END:STANDARD
BEGIN:DAYLIGHT
TZOFFSETFROM:-0500
TZOFFSETTO:-0400
TZNAME:EDT
DTSTART:20240310T070000
END:DAYLIGHT
BEGIN:STANDARD
TZOFFSETFROM:-0400
TZOFFSETTO:-0500
TZNAME:EST
DTSTART:20241103T060000
END:STANDARD
BEGIN:DAYLIGHT
TZOFFSETFROM:-0500
TZOFFSETTO:-0400
TZNAME:EDT
DTSTART:20250309T070000
END:DAYLIGHT
BEGIN:STANDARD
TZOFFSETFROM:-0400
TZOFFSETTO:-0500
TZNAME:EST
DTSTART:20251102T060000
END:STANDARD
BEGIN:DAYLIGHT
TZOFFSETFROM:-0500
TZOFFSETTO:-0400
TZNAME:EDT
DTSTART:20260308T070000
END:DAYLIGHT
BEGIN:STANDARD
TZOFFSETFROM:-0400
TZOFFSETTO:-0500
TZNAME:EST
DTSTART:20261101T060000
END:STANDARD
BEGIN:DAYLIGHT
TZOFFSETFROM:-0500
TZOFFSETTO:-0400
TZNAME:EDT
DTSTART:20270314T070000
END:DAYLIGHT
BEGIN:STANDARD
TZOFFSETFROM:-0400
TZOFFSETTO:-0500
TZNAME:EST
DTSTART:20271107T060000
END:STANDARD
END:VTIMEZONE
BEGIN:VEVENT
DTSTART;TZID=America/New_York:20260214T114500
DTEND;TZID=America/New_York:20260214T133000
DTSTAMP:20260424T231523
CREATED:20260121T170130Z
LAST-MODIFIED:20260121T204956Z
UID:44722-1771069500-1771075800@communityincrisis.org
SUMMARY:Planetarium Visit
DESCRIPTION:Fall in love with the Universe this Valentine’s Day! \n \nHere is your chance to fill your heart with wonder\, connection\, and hope. Spend time together under the stars and be reminded that you’re part of something bigger. \n💜✨ ALL ARE WELCOME. SPACE IS LIMITED. ✨💜 \n• Location: The Planetarium at Raritan Valley Community College\n• Arrive at 11:45AM.  Show from 12-1:30PM\n• Date: Saturday\, February 14th \nRegister Here!
URL:https://communityincrisis.org/event/planetarium-visit-3/
LOCATION:Raritan Valley Community College Event Center\, 118 Lamington Road\, Branchburg\, NJ\, 08876\, United States
END:VEVENT
BEGIN:VEVENT
DTSTART;TZID=America/New_York:20250426T183000
DTEND;TZID=America/New_York:20250426T220000
DTSTAMP:20260424T231523
CREATED:20250320T173719Z
LAST-MODIFIED:20250320T173719Z
UID:39588-1745692200-1745704800@communityincrisis.org
SUMMARY:The ARTs of RECOVERY
DESCRIPTION:“ONE VOICE\, MANY SOUNDS” THE ARTs of RECOVERY! \nSaturday\, April 26\, 2025\, 6:30–10:00pm \nA Concert Experience of Original Art\, Music & Dance Celebrating Addiction Recovery with a Message of Hope & Connection …and sober fun! Raritan Valley Community College @Edward Nash Theatre 118 Lamington Road\, Branchburg\, NJ \nNOT AN EASY FIX\, in partnership with COMMUNITY IN CONNECTION\, invites you to participate in a non-juried art exhibit showcasing the talents of those in Addiction Recovery! Artworks will be on display during Not An Easy Fix’s spring benefit concert event “ONE VOICE\, MANY SOUNDS…THE ARTs of RECOVERY!” More event info coming soon! \n6:30-7:30pm – ART EXHIBIT RECEPTION – The art show may also be viewed during the remainder of the evening. Refreshments to be served. \n7:30-10:00pm – CONCERT – A lively line-up of music & dance performances by various artists with diverse talents & styles. *BE OUR GUEST ! All exhibiting artists are invited to be our guests free of charge if they wish to attend the concert! RSVP @ info@notaneasyfix.org. Please Use Theatre Entrance & Check In at the front desk upon arrival. Ample parking. \nQUESTIONS??? Contact: \nNOT AN EASY FIX – info@notaneasyfix.org; Ellen & Jack Rannells 908-334-8270/908-300-2239 \nCOMMUNITY IN CONNECTION – lcarlson@communityincrisis.org; Lori Carlson 908-521-9452 \nLearn more HERE.
URL:https://communityincrisis.org/event/the-arts-of-recovery/
LOCATION:Raritan Valley Community College Event Center\, 118 Lamington Road\, Branchburg\, NJ\, 08876\, United States
END:VEVENT
BEGIN:VEVENT
DTSTART;TZID=America/New_York:20241001T170000
DTEND;TZID=America/New_York:20241001T200000
DTSTAMP:20260424T231523
CREATED:20240825T202408Z
LAST-MODIFIED:20240825T202417Z
UID:33343-1727802000-1727812800@communityincrisis.org
SUMMARY:Harm Reduction Conference
DESCRIPTION:We are thrilled to invite you to CiC’s 2nd Annual Harm Reduction for Substance Use Conference at Raritan Valley Community College. This is an incredible learning opportunity where you’ll hear from leading experts in the field and engage in a dynamic panel discussion. Expand your knowledge and connect with fellow advocates! Networking from 5-6pm. Conference from 6-8pm. \nLocation: Raritan Valley Community College\, 118 Lamington Rd\, Branchburg\, NJ 08876 \nDate and time: Tue\, Oct 1\, 2024 5:00 PM – 8:00 PM \nQuestions? Contact Sarah Popa\, (908) 801-2123\, spopa@communityincrisis.org
URL:https://communityincrisis.org/event/harm-reduction-conference/
LOCATION:Raritan Valley Community College Event Center\, 118 Lamington Road\, Branchburg\, NJ\, 08876\, United States
END:VEVENT
BEGIN:VEVENT
DTSTART;TZID=America/New_York:20210821T103000
DTEND;TZID=America/New_York:20210821T150000
DTSTAMP:20260424T231523
CREATED:20210729T232515Z
LAST-MODIFIED:20210729T232515Z
UID:15172-1629541800-1629558000@communityincrisis.org
SUMMARY:Birding Hike
DESCRIPTION:Enjoy the sanctuary of a birding hike at the Sanctuary! \nNew Jersey Audubon \nScherman Hoffman Wildlife Sanctuary \n11 Hardscrabble Rd. \nBernardsville NJ 07924 \nOur hike will be led by a knowledgeable peer who is experienced in bird watching and identification. \nThe Sanctuary is home to more than 60 species of nesting birds\, and over 200 species of birds have been sighted at the Sanctuary\, including as many as 25 species of warblers during spring migration. Nesting birds of interest include Worm-eating Warbler\, Louisiana Waterthrush\, Ruby-throated Hummingbird\, Pileated Woodpecker\, Wild Turkey\, and Great-horned and Screech owls. \nPlease dress in hiking appropriate footwear and attire. Bug repellent and sunscreen would be a welcome addition. Unfortunately\, the Sanctuary does not allow pets on the preserve. \nContact Ken for additional information: Kmusgrove@communityincrisis.org \nClick HERE to register.
URL:https://communityincrisis.org/event/birding-hike/
LOCATION:Raritan Valley Community College Event Center\, 118 Lamington Road\, Branchburg\, NJ\, 08876\, United States
END:VEVENT
END:VCALENDAR