BEGIN:VCALENDAR
VERSION:2.0
PRODID:-//Community in Crisis - ECPv6.15.20//NONSGML v1.0//EN
CALSCALE:GREGORIAN
METHOD:PUBLISH
X-WR-CALNAME:Community in Crisis
X-ORIGINAL-URL:https://communityincrisis.org
X-WR-CALDESC:Events for Community in Crisis
REFRESH-INTERVAL;VALUE=DURATION:PT1H
X-Robots-Tag:noindex
X-PUBLISHED-TTL:PT1H
BEGIN:VTIMEZONE
TZID:America/New_York
BEGIN:DAYLIGHT
TZOFFSETFROM:-0500
TZOFFSETTO:-0400
TZNAME:EDT
DTSTART:20250309T070000
END:DAYLIGHT
BEGIN:STANDARD
TZOFFSETFROM:-0400
TZOFFSETTO:-0500
TZNAME:EST
DTSTART:20251102T060000
END:STANDARD
BEGIN:DAYLIGHT
TZOFFSETFROM:-0500
TZOFFSETTO:-0400
TZNAME:EDT
DTSTART:20260308T070000
END:DAYLIGHT
BEGIN:STANDARD
TZOFFSETFROM:-0400
TZOFFSETTO:-0500
TZNAME:EST
DTSTART:20261101T060000
END:STANDARD
BEGIN:DAYLIGHT
TZOFFSETFROM:-0500
TZOFFSETTO:-0400
TZNAME:EDT
DTSTART:20270314T070000
END:DAYLIGHT
BEGIN:STANDARD
TZOFFSETFROM:-0400
TZOFFSETTO:-0500
TZNAME:EST
DTSTART:20271107T060000
END:STANDARD
BEGIN:DAYLIGHT
TZOFFSETFROM:-0500
TZOFFSETTO:-0400
TZNAME:EDT
DTSTART:20280312T070000
END:DAYLIGHT
BEGIN:STANDARD
TZOFFSETFROM:-0400
TZOFFSETTO:-0500
TZNAME:EST
DTSTART:20281105T060000
END:STANDARD
END:VTIMEZONE
BEGIN:VEVENT
DTSTART;TZID=America/New_York:20260428T190000
DTEND;TZID=America/New_York:20260428T203000
DTSTAMP:20260422T080518
CREATED:20260224T211124Z
LAST-MODIFIED:20260224T211124Z
UID:45104-1777402800-1777408200@communityincrisis.org
SUMMARY:Family Connections Support Group
DESCRIPTION:Family Connections Support Group:  Join in person or online! \nHeld every 2nd and 4th Tuesday from 7PM-8:30PM.
URL:https://communityincrisis.org/event/family-connections-support-group-2/2026-04-28/
LOCATION:9 Church St\, 9 Church Street\, BERNARDSVILLE\, NJ\, 07924\, United States
END:VEVENT
BEGIN:VEVENT
DTSTART;TZID=America/New_York:20260512T190000
DTEND;TZID=America/New_York:20260512T203000
DTSTAMP:20260422T080518
CREATED:20260224T211124Z
LAST-MODIFIED:20260224T211124Z
UID:45105-1778612400-1778617800@communityincrisis.org
SUMMARY:Family Connections Support Group
DESCRIPTION:Family Connections Support Group:  Join in person or online! \nHeld every 2nd and 4th Tuesday from 7PM-8:30PM.
URL:https://communityincrisis.org/event/family-connections-support-group-2/2026-05-12/
LOCATION:9 Church St\, 9 Church Street\, BERNARDSVILLE\, NJ\, 07924\, United States
END:VEVENT
BEGIN:VEVENT
DTSTART;TZID=America/New_York:20260526T190000
DTEND;TZID=America/New_York:20260526T203000
DTSTAMP:20260422T080518
CREATED:20260224T211124Z
LAST-MODIFIED:20260224T211124Z
UID:45106-1779822000-1779827400@communityincrisis.org
SUMMARY:Family Connections Support Group
DESCRIPTION:Family Connections Support Group:  Join in person or online! \nHeld every 2nd and 4th Tuesday from 7PM-8:30PM.
URL:https://communityincrisis.org/event/family-connections-support-group-2/2026-05-26/
LOCATION:9 Church St\, 9 Church Street\, BERNARDSVILLE\, NJ\, 07924\, United States
END:VEVENT
BEGIN:VEVENT
DTSTART;TZID=America/New_York:20260609T190000
DTEND;TZID=America/New_York:20260609T203000
DTSTAMP:20260422T080518
CREATED:20260224T211124Z
LAST-MODIFIED:20260224T211124Z
UID:45107-1781031600-1781037000@communityincrisis.org
SUMMARY:Family Connections Support Group
DESCRIPTION:Family Connections Support Group:  Join in person or online! \nHeld every 2nd and 4th Tuesday from 7PM-8:30PM.
URL:https://communityincrisis.org/event/family-connections-support-group-2/2026-06-09/
LOCATION:9 Church St\, 9 Church Street\, BERNARDSVILLE\, NJ\, 07924\, United States
END:VEVENT
BEGIN:VEVENT
DTSTART;TZID=America/New_York:20260623T190000
DTEND;TZID=America/New_York:20260623T203000
DTSTAMP:20260422T080518
CREATED:20260224T211124Z
LAST-MODIFIED:20260224T211124Z
UID:45108-1782241200-1782246600@communityincrisis.org
SUMMARY:Family Connections Support Group
DESCRIPTION:Family Connections Support Group:  Join in person or online! \nHeld every 2nd and 4th Tuesday from 7PM-8:30PM.
URL:https://communityincrisis.org/event/family-connections-support-group-2/2026-06-23/
LOCATION:9 Church St\, 9 Church Street\, BERNARDSVILLE\, NJ\, 07924\, United States
END:VEVENT
BEGIN:VEVENT
DTSTART;TZID=America/New_York:20260714T190000
DTEND;TZID=America/New_York:20260714T203000
DTSTAMP:20260422T080518
CREATED:20260224T211124Z
LAST-MODIFIED:20260224T211124Z
UID:45109-1784055600-1784061000@communityincrisis.org
SUMMARY:Family Connections Support Group
DESCRIPTION:Family Connections Support Group:  Join in person or online! \nHeld every 2nd and 4th Tuesday from 7PM-8:30PM.
URL:https://communityincrisis.org/event/family-connections-support-group-2/2026-07-14/
LOCATION:9 Church St\, 9 Church Street\, BERNARDSVILLE\, NJ\, 07924\, United States
END:VEVENT
BEGIN:VEVENT
DTSTART;TZID=America/New_York:20260728T190000
DTEND;TZID=America/New_York:20260728T203000
DTSTAMP:20260422T080518
CREATED:20260224T211124Z
LAST-MODIFIED:20260224T211124Z
UID:45110-1785265200-1785270600@communityincrisis.org
SUMMARY:Family Connections Support Group
DESCRIPTION:Family Connections Support Group:  Join in person or online! \nHeld every 2nd and 4th Tuesday from 7PM-8:30PM.
URL:https://communityincrisis.org/event/family-connections-support-group-2/2026-07-28/
LOCATION:9 Church St\, 9 Church Street\, BERNARDSVILLE\, NJ\, 07924\, United States
END:VEVENT
BEGIN:VEVENT
DTSTART;TZID=America/New_York:20260811T190000
DTEND;TZID=America/New_York:20260811T203000
DTSTAMP:20260422T080518
CREATED:20260224T211124Z
LAST-MODIFIED:20260224T211124Z
UID:45111-1786474800-1786480200@communityincrisis.org
SUMMARY:Family Connections Support Group
DESCRIPTION:Family Connections Support Group:  Join in person or online! \nHeld every 2nd and 4th Tuesday from 7PM-8:30PM.
URL:https://communityincrisis.org/event/family-connections-support-group-2/2026-08-11/
LOCATION:9 Church St\, 9 Church Street\, BERNARDSVILLE\, NJ\, 07924\, United States
END:VEVENT
BEGIN:VEVENT
DTSTART;TZID=America/New_York:20260825T190000
DTEND;TZID=America/New_York:20260825T203000
DTSTAMP:20260422T080518
CREATED:20260224T211124Z
LAST-MODIFIED:20260224T211124Z
UID:45112-1787684400-1787689800@communityincrisis.org
SUMMARY:Family Connections Support Group
DESCRIPTION:Family Connections Support Group:  Join in person or online! \nHeld every 2nd and 4th Tuesday from 7PM-8:30PM.
URL:https://communityincrisis.org/event/family-connections-support-group-2/2026-08-25/
LOCATION:9 Church St\, 9 Church Street\, BERNARDSVILLE\, NJ\, 07924\, United States
END:VEVENT
BEGIN:VEVENT
DTSTART;TZID=America/New_York:20260908T190000
DTEND;TZID=America/New_York:20260908T203000
DTSTAMP:20260422T080518
CREATED:20260224T211124Z
LAST-MODIFIED:20260224T211124Z
UID:45113-1788894000-1788899400@communityincrisis.org
SUMMARY:Family Connections Support Group
DESCRIPTION:Family Connections Support Group:  Join in person or online! \nHeld every 2nd and 4th Tuesday from 7PM-8:30PM.
URL:https://communityincrisis.org/event/family-connections-support-group-2/2026-09-08/
LOCATION:9 Church St\, 9 Church Street\, BERNARDSVILLE\, NJ\, 07924\, United States
END:VEVENT
BEGIN:VEVENT
DTSTART;TZID=America/New_York:20260922T190000
DTEND;TZID=America/New_York:20260922T203000
DTSTAMP:20260422T080518
CREATED:20260224T211124Z
LAST-MODIFIED:20260224T211124Z
UID:45114-1790103600-1790109000@communityincrisis.org
SUMMARY:Family Connections Support Group
DESCRIPTION:Family Connections Support Group:  Join in person or online! \nHeld every 2nd and 4th Tuesday from 7PM-8:30PM.
URL:https://communityincrisis.org/event/family-connections-support-group-2/2026-09-22/
LOCATION:9 Church St\, 9 Church Street\, BERNARDSVILLE\, NJ\, 07924\, United States
END:VEVENT
BEGIN:VEVENT
DTSTART;TZID=America/New_York:20261013T190000
DTEND;TZID=America/New_York:20261013T203000
DTSTAMP:20260422T080518
CREATED:20260224T211124Z
LAST-MODIFIED:20260224T211124Z
UID:45115-1791918000-1791923400@communityincrisis.org
SUMMARY:Family Connections Support Group
DESCRIPTION:Family Connections Support Group:  Join in person or online! \nHeld every 2nd and 4th Tuesday from 7PM-8:30PM.
URL:https://communityincrisis.org/event/family-connections-support-group-2/2026-10-13/
LOCATION:9 Church St\, 9 Church Street\, BERNARDSVILLE\, NJ\, 07924\, United States
END:VEVENT
BEGIN:VEVENT
DTSTART;TZID=America/New_York:20261027T190000
DTEND;TZID=America/New_York:20261027T203000
DTSTAMP:20260422T080518
CREATED:20260224T211124Z
LAST-MODIFIED:20260224T211124Z
UID:45116-1793127600-1793133000@communityincrisis.org
SUMMARY:Family Connections Support Group
DESCRIPTION:Family Connections Support Group:  Join in person or online! \nHeld every 2nd and 4th Tuesday from 7PM-8:30PM.
URL:https://communityincrisis.org/event/family-connections-support-group-2/2026-10-27/
LOCATION:9 Church St\, 9 Church Street\, BERNARDSVILLE\, NJ\, 07924\, United States
END:VEVENT
BEGIN:VEVENT
DTSTART;TZID=America/New_York:20261110T190000
DTEND;TZID=America/New_York:20261110T203000
DTSTAMP:20260422T080518
CREATED:20260224T211124Z
LAST-MODIFIED:20260224T211124Z
UID:45117-1794337200-1794342600@communityincrisis.org
SUMMARY:Family Connections Support Group
DESCRIPTION:Family Connections Support Group:  Join in person or online! \nHeld every 2nd and 4th Tuesday from 7PM-8:30PM.
URL:https://communityincrisis.org/event/family-connections-support-group-2/2026-11-10/
LOCATION:9 Church St\, 9 Church Street\, BERNARDSVILLE\, NJ\, 07924\, United States
END:VEVENT
BEGIN:VEVENT
DTSTART;TZID=America/New_York:20261124T190000
DTEND;TZID=America/New_York:20261124T203000
DTSTAMP:20260422T080518
CREATED:20260224T211124Z
LAST-MODIFIED:20260224T211124Z
UID:45118-1795546800-1795552200@communityincrisis.org
SUMMARY:Family Connections Support Group
DESCRIPTION:Family Connections Support Group:  Join in person or online! \nHeld every 2nd and 4th Tuesday from 7PM-8:30PM.
URL:https://communityincrisis.org/event/family-connections-support-group-2/2026-11-24/
LOCATION:9 Church St\, 9 Church Street\, BERNARDSVILLE\, NJ\, 07924\, United States
END:VEVENT
BEGIN:VEVENT
DTSTART;TZID=America/New_York:20261208T190000
DTEND;TZID=America/New_York:20261208T203000
DTSTAMP:20260422T080518
CREATED:20260224T211124Z
LAST-MODIFIED:20260224T211124Z
UID:45119-1796756400-1796761800@communityincrisis.org
SUMMARY:Family Connections Support Group
DESCRIPTION:Family Connections Support Group:  Join in person or online! \nHeld every 2nd and 4th Tuesday from 7PM-8:30PM.
URL:https://communityincrisis.org/event/family-connections-support-group-2/2026-12-08/
LOCATION:9 Church St\, 9 Church Street\, BERNARDSVILLE\, NJ\, 07924\, United States
END:VEVENT
BEGIN:VEVENT
DTSTART;TZID=America/New_York:20261222T190000
DTEND;TZID=America/New_York:20261222T203000
DTSTAMP:20260422T080518
CREATED:20260224T211124Z
LAST-MODIFIED:20260224T211124Z
UID:45120-1797966000-1797971400@communityincrisis.org
SUMMARY:Family Connections Support Group
DESCRIPTION:Family Connections Support Group:  Join in person or online! \nHeld every 2nd and 4th Tuesday from 7PM-8:30PM.
URL:https://communityincrisis.org/event/family-connections-support-group-2/2026-12-22/
LOCATION:9 Church St\, 9 Church Street\, BERNARDSVILLE\, NJ\, 07924\, United States
END:VEVENT
BEGIN:VEVENT
DTSTART;TZID=America/New_York:20270112T190000
DTEND;TZID=America/New_York:20270112T203000
DTSTAMP:20260422T080518
CREATED:20260224T211124Z
LAST-MODIFIED:20260224T211124Z
UID:45121-1799780400-1799785800@communityincrisis.org
SUMMARY:Family Connections Support Group
DESCRIPTION:Family Connections Support Group:  Join in person or online! \nHeld every 2nd and 4th Tuesday from 7PM-8:30PM.
URL:https://communityincrisis.org/event/family-connections-support-group-2/2027-01-12/
LOCATION:9 Church St\, 9 Church Street\, BERNARDSVILLE\, NJ\, 07924\, United States
END:VEVENT
BEGIN:VEVENT
DTSTART;TZID=America/New_York:20270126T190000
DTEND;TZID=America/New_York:20270126T203000
DTSTAMP:20260422T080518
CREATED:20260224T211124Z
LAST-MODIFIED:20260224T211124Z
UID:45122-1800990000-1800995400@communityincrisis.org
SUMMARY:Family Connections Support Group
DESCRIPTION:Family Connections Support Group:  Join in person or online! \nHeld every 2nd and 4th Tuesday from 7PM-8:30PM.
URL:https://communityincrisis.org/event/family-connections-support-group-2/2027-01-26/
LOCATION:9 Church St\, 9 Church Street\, BERNARDSVILLE\, NJ\, 07924\, United States
END:VEVENT
BEGIN:VEVENT
DTSTART;TZID=America/New_York:20270209T190000
DTEND;TZID=America/New_York:20270209T203000
DTSTAMP:20260422T080518
CREATED:20260224T211124Z
LAST-MODIFIED:20260224T211124Z
UID:45123-1802199600-1802205000@communityincrisis.org
SUMMARY:Family Connections Support Group
DESCRIPTION:Family Connections Support Group:  Join in person or online! \nHeld every 2nd and 4th Tuesday from 7PM-8:30PM.
URL:https://communityincrisis.org/event/family-connections-support-group-2/2027-02-09/
LOCATION:9 Church St\, 9 Church Street\, BERNARDSVILLE\, NJ\, 07924\, United States
END:VEVENT
BEGIN:VEVENT
DTSTART;TZID=America/New_York:20270223T190000
DTEND;TZID=America/New_York:20270223T203000
DTSTAMP:20260422T080518
CREATED:20260224T211124Z
LAST-MODIFIED:20260224T211124Z
UID:45124-1803409200-1803414600@communityincrisis.org
SUMMARY:Family Connections Support Group
DESCRIPTION:Family Connections Support Group:  Join in person or online! \nHeld every 2nd and 4th Tuesday from 7PM-8:30PM.
URL:https://communityincrisis.org/event/family-connections-support-group-2/2027-02-23/
LOCATION:9 Church St\, 9 Church Street\, BERNARDSVILLE\, NJ\, 07924\, United States
END:VEVENT
BEGIN:VEVENT
DTSTART;TZID=America/New_York:20270309T190000
DTEND;TZID=America/New_York:20270309T203000
DTSTAMP:20260422T080518
CREATED:20260224T211124Z
LAST-MODIFIED:20260224T211124Z
UID:45125-1804618800-1804624200@communityincrisis.org
SUMMARY:Family Connections Support Group
DESCRIPTION:Family Connections Support Group:  Join in person or online! \nHeld every 2nd and 4th Tuesday from 7PM-8:30PM.
URL:https://communityincrisis.org/event/family-connections-support-group-2/2027-03-09/
LOCATION:9 Church St\, 9 Church Street\, BERNARDSVILLE\, NJ\, 07924\, United States
END:VEVENT
BEGIN:VEVENT
DTSTART;TZID=America/New_York:20270323T190000
DTEND;TZID=America/New_York:20270323T203000
DTSTAMP:20260422T080518
CREATED:20260224T211124Z
LAST-MODIFIED:20260224T211124Z
UID:45126-1805828400-1805833800@communityincrisis.org
SUMMARY:Family Connections Support Group
DESCRIPTION:Family Connections Support Group:  Join in person or online! \nHeld every 2nd and 4th Tuesday from 7PM-8:30PM.
URL:https://communityincrisis.org/event/family-connections-support-group-2/2027-03-23/
LOCATION:9 Church St\, 9 Church Street\, BERNARDSVILLE\, NJ\, 07924\, United States
END:VEVENT
BEGIN:VEVENT
DTSTART;TZID=America/New_York:20270413T190000
DTEND;TZID=America/New_York:20270413T203000
DTSTAMP:20260422T080518
CREATED:20260224T211124Z
LAST-MODIFIED:20260224T211124Z
UID:45127-1807642800-1807648200@communityincrisis.org
SUMMARY:Family Connections Support Group
DESCRIPTION:Family Connections Support Group:  Join in person or online! \nHeld every 2nd and 4th Tuesday from 7PM-8:30PM.
URL:https://communityincrisis.org/event/family-connections-support-group-2/2027-04-13/
LOCATION:9 Church St\, 9 Church Street\, BERNARDSVILLE\, NJ\, 07924\, United States
END:VEVENT
BEGIN:VEVENT
DTSTART;TZID=America/New_York:20270427T190000
DTEND;TZID=America/New_York:20270427T203000
DTSTAMP:20260422T080518
CREATED:20260224T211124Z
LAST-MODIFIED:20260224T211124Z
UID:45128-1808852400-1808857800@communityincrisis.org
SUMMARY:Family Connections Support Group
DESCRIPTION:Family Connections Support Group:  Join in person or online! \nHeld every 2nd and 4th Tuesday from 7PM-8:30PM.
URL:https://communityincrisis.org/event/family-connections-support-group-2/2027-04-27/
LOCATION:9 Church St\, 9 Church Street\, BERNARDSVILLE\, NJ\, 07924\, United States
END:VEVENT
BEGIN:VEVENT
DTSTART;TZID=America/New_York:20270511T190000
DTEND;TZID=America/New_York:20270511T203000
DTSTAMP:20260422T080518
CREATED:20260224T211124Z
LAST-MODIFIED:20260224T211124Z
UID:45129-1810062000-1810067400@communityincrisis.org
SUMMARY:Family Connections Support Group
DESCRIPTION:Family Connections Support Group:  Join in person or online! \nHeld every 2nd and 4th Tuesday from 7PM-8:30PM.
URL:https://communityincrisis.org/event/family-connections-support-group-2/2027-05-11/
LOCATION:9 Church St\, 9 Church Street\, BERNARDSVILLE\, NJ\, 07924\, United States
END:VEVENT
BEGIN:VEVENT
DTSTART;TZID=America/New_York:20270525T190000
DTEND;TZID=America/New_York:20270525T203000
DTSTAMP:20260422T080518
CREATED:20260224T211124Z
LAST-MODIFIED:20260224T211124Z
UID:45131-1811271600-1811277000@communityincrisis.org
SUMMARY:Family Connections Support Group
DESCRIPTION:Family Connections Support Group:  Join in person or online! \nHeld every 2nd and 4th Tuesday from 7PM-8:30PM.
URL:https://communityincrisis.org/event/family-connections-support-group-2/2027-05-25/
LOCATION:9 Church St\, 9 Church Street\, BERNARDSVILLE\, NJ\, 07924\, United States
END:VEVENT
BEGIN:VEVENT
DTSTART;TZID=America/New_York:20270608T190000
DTEND;TZID=America/New_York:20270608T203000
DTSTAMP:20260422T080518
CREATED:20260224T211124Z
LAST-MODIFIED:20260224T211124Z
UID:45132-1812481200-1812486600@communityincrisis.org
SUMMARY:Family Connections Support Group
DESCRIPTION:Family Connections Support Group:  Join in person or online! \nHeld every 2nd and 4th Tuesday from 7PM-8:30PM.
URL:https://communityincrisis.org/event/family-connections-support-group-2/2027-06-08/
LOCATION:9 Church St\, 9 Church Street\, BERNARDSVILLE\, NJ\, 07924\, United States
END:VEVENT
BEGIN:VEVENT
DTSTART;TZID=America/New_York:20270622T190000
DTEND;TZID=America/New_York:20270622T203000
DTSTAMP:20260422T080518
CREATED:20260224T211124Z
LAST-MODIFIED:20260224T211124Z
UID:45133-1813690800-1813696200@communityincrisis.org
SUMMARY:Family Connections Support Group
DESCRIPTION:Family Connections Support Group:  Join in person or online! \nHeld every 2nd and 4th Tuesday from 7PM-8:30PM.
URL:https://communityincrisis.org/event/family-connections-support-group-2/2027-06-22/
LOCATION:9 Church St\, 9 Church Street\, BERNARDSVILLE\, NJ\, 07924\, United States
END:VEVENT
BEGIN:VEVENT
DTSTART;TZID=America/New_York:20270713T190000
DTEND;TZID=America/New_York:20270713T203000
DTSTAMP:20260422T080518
CREATED:20260224T211124Z
LAST-MODIFIED:20260224T211124Z
UID:45134-1815505200-1815510600@communityincrisis.org
SUMMARY:Family Connections Support Group
DESCRIPTION:Family Connections Support Group:  Join in person or online! \nHeld every 2nd and 4th Tuesday from 7PM-8:30PM.
URL:https://communityincrisis.org/event/family-connections-support-group-2/2027-07-13/
LOCATION:9 Church St\, 9 Church Street\, BERNARDSVILLE\, NJ\, 07924\, United States
END:VEVENT
END:VCALENDAR