BEGIN:VCALENDAR
VERSION:2.0
PRODID:-//Community in Crisis - ECPv6.15.20//NONSGML v1.0//EN
CALSCALE:GREGORIAN
METHOD:PUBLISH
X-WR-CALNAME:Community in Crisis
X-ORIGINAL-URL:https://communityincrisis.org
X-WR-CALDESC:Events for Community in Crisis
REFRESH-INTERVAL;VALUE=DURATION:PT1H
X-Robots-Tag:noindex
X-PUBLISHED-TTL:PT1H
BEGIN:VTIMEZONE
TZID:America/New_York
BEGIN:DAYLIGHT
TZOFFSETFROM:-0500
TZOFFSETTO:-0400
TZNAME:EDT
DTSTART:20220313T070000
END:DAYLIGHT
BEGIN:STANDARD
TZOFFSETFROM:-0400
TZOFFSETTO:-0500
TZNAME:EST
DTSTART:20221106T060000
END:STANDARD
BEGIN:DAYLIGHT
TZOFFSETFROM:-0500
TZOFFSETTO:-0400
TZNAME:EDT
DTSTART:20230312T070000
END:DAYLIGHT
BEGIN:STANDARD
TZOFFSETFROM:-0400
TZOFFSETTO:-0500
TZNAME:EST
DTSTART:20231105T060000
END:STANDARD
BEGIN:DAYLIGHT
TZOFFSETFROM:-0500
TZOFFSETTO:-0400
TZNAME:EDT
DTSTART:20240310T070000
END:DAYLIGHT
BEGIN:STANDARD
TZOFFSETFROM:-0400
TZOFFSETTO:-0500
TZNAME:EST
DTSTART:20241103T060000
END:STANDARD
BEGIN:DAYLIGHT
TZOFFSETFROM:-0500
TZOFFSETTO:-0400
TZNAME:EDT
DTSTART:20250309T070000
END:DAYLIGHT
BEGIN:STANDARD
TZOFFSETFROM:-0400
TZOFFSETTO:-0500
TZNAME:EST
DTSTART:20251102T060000
END:STANDARD
BEGIN:DAYLIGHT
TZOFFSETFROM:-0500
TZOFFSETTO:-0400
TZNAME:EDT
DTSTART:20260308T070000
END:DAYLIGHT
BEGIN:STANDARD
TZOFFSETFROM:-0400
TZOFFSETTO:-0500
TZNAME:EST
DTSTART:20261101T060000
END:STANDARD
BEGIN:DAYLIGHT
TZOFFSETFROM:-0500
TZOFFSETTO:-0400
TZNAME:EDT
DTSTART:20270314T070000
END:DAYLIGHT
BEGIN:STANDARD
TZOFFSETFROM:-0400
TZOFFSETTO:-0500
TZNAME:EST
DTSTART:20271107T060000
END:STANDARD
END:VTIMEZONE
BEGIN:VEVENT
DTSTART;TZID=America/New_York:20230110T190000
DTEND;TZID=America/New_York:20260512T200000
DTSTAMP:20260424T093938
CREATED:20230106T014037Z
LAST-MODIFIED:20260325T163544Z
UID:22763-1673377200-1778616000@communityincrisis.org
SUMMARY:Moderation Management
DESCRIPTION:Moderation Management is a great way to help you evaluate your relation to substances and connect with a community that focuses on taking steps toward a healthier and happier life. \nOur group provides a non-judgmental\, compassionate and supportive community for anyone who wants to change their relationship to substances in a positive way. We meet each other where we’re at and encourage each other to keep going when the road gets tough. Come as you are. \n \nJoin us on Tuesdays at 7pm Eastern via Zoom\, 6pm Central \n(1st Tuesday of the Month is hybrid: in-person / zoom at the Hub) \nIn person meeting held at the Community Hub: 9 Church St\, Bernardsville NJ. \nClick HERE to enter Zoom meeting.\nQUESTIONS?\nPlease contact Ken at:\nKmusgrove@communityincrisis.org or 973.876-3378 for specific details. \nMM empowers individuals to accept personal responsibility for choosing and maintaining their own path\, whether moderation or abstinence. We promote early self-recognition of risky substance use when moderation may be an achievable goal of harm reduction. To learn more\, go to https://moderation.org
URL:https://communityincrisis.org/event/moderation-management/2023-01-10/
END:VEVENT
BEGIN:VEVENT
DTSTART;TZID=America/New_York:20231010T180000
DTEND;TZID=America/New_York:20231010T200000
DTSTAMP:20260424T093938
CREATED:20231005T120402Z
LAST-MODIFIED:20231005T120402Z
UID:26036-1696960800-1696968000@communityincrisis.org
SUMMARY:Community in Connection Harm Reduction for Substance Use
DESCRIPTION:A Comprehensive Introduction \n  \nJoin us on a transformative journey as we delve into multiple perspectives of harm reduction. The event will feature an exceptional lineup of speakers from diverse backgrounds and areas of expertise\, alongside a panel that is ready for all your questions! We hope you’ll walk with us on the journey of continued learning and curiosity. \n  \nOct 10\, 2023  6-8pm \nRaritan Valley Community College – Event Center \n118 Lamington Rd.\, \nBranchburg\, NJ 08876 \n  \nFor more details and registration\, contact us at: \nspopa@communityincrisis.org \n908-801-2123
URL:https://communityincrisis.org/event/community-in-connection-harm-reduction-for-substance-use/
END:VEVENT
BEGIN:VEVENT
DTSTART;TZID=America/New_York:20231015T184500
DTEND;TZID=America/New_York:20231015T194500
DTSTAMP:20260424T093938
CREATED:20231015T181542Z
LAST-MODIFIED:20250205T235235Z
UID:26165-1697395500-1697399100@communityincrisis.org
SUMMARY:AA - Big Book Discussion
DESCRIPTION:Thursdays at 6:45pm \nAlcoholics Anonymous – Big Book Discussion
URL:https://communityincrisis.org/event/aa-big-book-discussion/2023-10-15/
LOCATION:The Community Hub\, 9 Church Street\, Bernardsville\, NJ\, 07924\, United States
END:VEVENT
BEGIN:VEVENT
DTSTART;TZID=America/New_York:20231016T120000
DTEND;TZID=America/New_York:20231016T140000
DTSTAMP:20260424T093938
CREATED:20231015T171429Z
LAST-MODIFIED:20231015T171429Z
UID:26163-1697457600-1697464800@communityincrisis.org
SUMMARY:More Than a Meeting
DESCRIPTION:ALL RECOVERY MEETING \n3rd Monday of each month. \n12:30-1:30 \nSt. John’s Episcopal Church \n158 W High St\, Somerville\, NJ 08876 \n  \nDoors open at 12:00pm and stay open until 2:00 for this More Than a Meeting Event! \n  \nFree Narcan and Fentanyl test strips available. \nConnection to resources. \nOptional One on One Peer Support. \nMeeting verification provided. \n***SNACKS**** \nQuestions or more information? Contact Sarah 908.801.2123 or Ken 908.801.4243 \nCome for the resources\, stay for the meeting\, leave with some solutions!
URL:https://communityincrisis.org/event/more-than-a-meeting/2023-10-16/
LOCATION:St. Johns Episcopal Church\, 158 W High Street\, Somerville\, NJ\, 08876\, United States
END:VEVENT
BEGIN:VEVENT
DTSTART;TZID=America/New_York:20231022T083000
DTEND;TZID=America/New_York:20231022T103000
DTSTAMP:20260424T093938
CREATED:20220921T195037Z
LAST-MODIFIED:20231015T160305Z
UID:21087-1697963400-1697970600@communityincrisis.org
SUMMARY:Birding in our "backyard"
DESCRIPTION:Join us for a birding adventure at Lord Stirling Park with Kevin\, our expert guide who knows every bird by call and can tell you exactly where to spot them. \nThis event is perfect for all skill levels and offers an opportunity to connect with nature while exploring the serene surroundings of Lord Stirling Park. Binoculars will be provided so you won’t miss a single detail. Join us for a morning of birding bliss and witness the stunning avian diversity at Lord Stirling Park. \nPlease arrive promptly at 8:30am so we don’t miss out on the best opportunity to see a wide variety of birds and hear their morning songs. \nYou know the phrase\, early birds! \nPlease pack water and mid-hike munchies. Wear comfortable shoes and weather appropriate clothing. Optional\, but we recommend bug spray and sunscreen. \n\nAddress: 190 Lord Stirling Rd\, Basking Ridge\, NJ 07920 \nPlease arrive promptly at 8:30am so we don’t miss out on the best opportunity to see a wide variety of birds and hear their morning songs.  You know the phrase\, early birds! \nPlease pack water and mid-hike munchies.  Wear comfortable shoes and weather appropriate clothing. Optional\, but we recommend bug spray and sunscreen! \nRegistration required for this FREE event. \nPlease register HERE. \nFor more information contact Sarah: spopa@communityincrisis.org
URL:https://communityincrisis.org/event/birding-in-our-backyard-2/
LOCATION:North Plainfield Memorial Branch Library\, 6 Rockview Ave\, North Plainfield\, NJ\, 07063\, United States
END:VEVENT
BEGIN:VEVENT
DTSTART;TZID=America/New_York:20231026T180000
DTEND;TZID=America/New_York:20231026T190000
DTSTAMP:20260424T093938
CREATED:20231023T233235Z
LAST-MODIFIED:20251104T230937Z
UID:26414-1698343200-1698346800@communityincrisis.org
SUMMARY:Holistic Natural Recovery
DESCRIPTION:Join us on Thursdays 6:00-7:00pm at the Community Hub for Holistic Natural Recovery. \nNo prior experience required. \nClick HERE to view and register for our Holistic Natural Recovery Classes! \nWhat is Holistic Natural Recovery? \nIt’s a multi-dimensional approach to recovery addressing your physical\, mental\, social\, and spiritual needs. \nSessions may include a combination of gentle movement\, breath\, as well as more holistic wellness offerings. \nAny questions contact Lori: \nlcarlson@communityincrisis.org
URL:https://communityincrisis.org/event/holistic-natural-recovery-3/2023-10-26/
LOCATION:The Community Hub\, 9 Church Street\, Bernardsville\, NJ\, 07924\, United States
END:VEVENT
BEGIN:VEVENT
DTSTART;TZID=America/New_York:20231028T110000
DTEND;TZID=America/New_York:20231028T120000
DTSTAMP:20260424T093938
CREATED:20231015T165522Z
LAST-MODIFIED:20231016T164002Z
UID:26160-1698490800-1698494400@communityincrisis.org
SUMMARY:Furry-Scary Howloween
DESCRIPTION:A Furry Scary Howl – ween!\nIt’s that time of year ya ghosties and ghoulies! Round up all your werewolves\, toss Cujo in the car and get ready for spookiest pup filled palooza of the year. Bring your beasties to a meeting in this special edition of Canines for Recovery. \nCANINES FOR RECOVERY STARTS AT 11AM on OCTOBER 28 \n@ The Community Hub: 9 Church St\, Bernardsville \nOpen to all! Allies/friends/family and bone-ifed dog lovers alike are welcome. \nDogs must be well trained…. Yada yada \nFor more information contact Sarah: spopa@communityincrisis.org. \nRegister HERE.
URL:https://communityincrisis.org/event/furry-scary-howloween/
END:VEVENT
END:VCALENDAR