BEGIN:VCALENDAR
VERSION:2.0
PRODID:-//Community in Crisis - ECPv6.15.20//NONSGML v1.0//EN
CALSCALE:GREGORIAN
METHOD:PUBLISH
X-ORIGINAL-URL:https://communityincrisis.org
X-WR-CALDESC:Events for Community in Crisis
REFRESH-INTERVAL;VALUE=DURATION:PT1H
X-Robots-Tag:noindex
X-PUBLISHED-TTL:PT1H
BEGIN:VTIMEZONE
TZID:America/New_York
BEGIN:DAYLIGHT
TZOFFSETFROM:-0500
TZOFFSETTO:-0400
TZNAME:EDT
DTSTART:20220313T070000
END:DAYLIGHT
BEGIN:STANDARD
TZOFFSETFROM:-0400
TZOFFSETTO:-0500
TZNAME:EST
DTSTART:20221106T060000
END:STANDARD
BEGIN:DAYLIGHT
TZOFFSETFROM:-0500
TZOFFSETTO:-0400
TZNAME:EDT
DTSTART:20230312T070000
END:DAYLIGHT
BEGIN:STANDARD
TZOFFSETFROM:-0400
TZOFFSETTO:-0500
TZNAME:EST
DTSTART:20231105T060000
END:STANDARD
BEGIN:DAYLIGHT
TZOFFSETFROM:-0500
TZOFFSETTO:-0400
TZNAME:EDT
DTSTART:20240310T070000
END:DAYLIGHT
BEGIN:STANDARD
TZOFFSETFROM:-0400
TZOFFSETTO:-0500
TZNAME:EST
DTSTART:20241103T060000
END:STANDARD
BEGIN:DAYLIGHT
TZOFFSETFROM:-0500
TZOFFSETTO:-0400
TZNAME:EDT
DTSTART:20250309T070000
END:DAYLIGHT
BEGIN:STANDARD
TZOFFSETFROM:-0400
TZOFFSETTO:-0500
TZNAME:EST
DTSTART:20251102T060000
END:STANDARD
BEGIN:DAYLIGHT
TZOFFSETFROM:-0500
TZOFFSETTO:-0400
TZNAME:EDT
DTSTART:20260308T070000
END:DAYLIGHT
BEGIN:STANDARD
TZOFFSETFROM:-0400
TZOFFSETTO:-0500
TZNAME:EST
DTSTART:20261101T060000
END:STANDARD
BEGIN:DAYLIGHT
TZOFFSETFROM:-0500
TZOFFSETTO:-0400
TZNAME:EDT
DTSTART:20270314T070000
END:DAYLIGHT
BEGIN:STANDARD
TZOFFSETFROM:-0400
TZOFFSETTO:-0500
TZNAME:EST
DTSTART:20271107T060000
END:STANDARD
END:VTIMEZONE
BEGIN:VEVENT
DTSTART;TZID=America/New_York:20230110T190000
DTEND;TZID=America/New_York:20260512T200000
DTSTAMP:20260425T103625
CREATED:20230106T014037Z
LAST-MODIFIED:20260325T163544Z
UID:22763-1673377200-1778616000@communityincrisis.org
SUMMARY:Moderation Management
DESCRIPTION:Moderation Management is a great way to help you evaluate your relation to substances and connect with a community that focuses on taking steps toward a healthier and happier life. \nOur group provides a non-judgmental\, compassionate and supportive community for anyone who wants to change their relationship to substances in a positive way. We meet each other where we’re at and encourage each other to keep going when the road gets tough. Come as you are. \n \nJoin us on Tuesdays at 7pm Eastern via Zoom\, 6pm Central \n(1st Tuesday of the Month is hybrid: in-person / zoom at the Hub) \nIn person meeting held at the Community Hub: 9 Church St\, Bernardsville NJ. \nClick HERE to enter Zoom meeting.\nQUESTIONS?\nPlease contact Ken at:\nKmusgrove@communityincrisis.org or 973.876-3378 for specific details. \nMM empowers individuals to accept personal responsibility for choosing and maintaining their own path\, whether moderation or abstinence. We promote early self-recognition of risky substance use when moderation may be an achievable goal of harm reduction. To learn more\, go to https://moderation.org
URL:https://communityincrisis.org/event/moderation-management/2023-01-10/
END:VEVENT
BEGIN:VEVENT
DTSTART;TZID=America/New_York:20240112T183000
DTEND;TZID=America/New_York:20240112T203000
DTSTAMP:20260425T103625
CREATED:20240104T002807Z
LAST-MODIFIED:20240104T002807Z
UID:28445-1705084200-1705091400@communityincrisis.org
SUMMARY:Karaoke Night
DESCRIPTION:CiC Karaoke – January 12th\, 2024 \nYAY\, we are so excited you are coming to join us for Sober Karaoke!! We will have an amazing DJ\, “Jake of All Trades” and as always\, we will be bringing out the famous fog machine so you can look like a rockstar. Talent not required! Please tell your friends to sign up. All are welcome – recovery allies\, too! \nLocation: 9 Church St\, Bernardsville\, NJ 07924 \nDate and time: Fri\, Jan 12\, 2024 6:30 PM – 8:30 PM \nQuestions? Contact Sarah: spopa@communityincrisis.org
URL:https://communityincrisis.org/event/karaoke-night/
LOCATION:The Community Hub\, 9 Church Street\, Bernardsville\, NJ\, 07924\, United States
END:VEVENT
END:VCALENDAR