BEGIN:VCALENDAR
VERSION:2.0
PRODID:-//Community in Crisis - ECPv6.15.20//NONSGML v1.0//EN
CALSCALE:GREGORIAN
METHOD:PUBLISH
X-WR-CALNAME:Community in Crisis
X-ORIGINAL-URL:https://communityincrisis.org
X-WR-CALDESC:Events for Community in Crisis
REFRESH-INTERVAL;VALUE=DURATION:PT1H
X-Robots-Tag:noindex
X-PUBLISHED-TTL:PT1H
BEGIN:VTIMEZONE
TZID:America/New_York
BEGIN:DAYLIGHT
TZOFFSETFROM:-0500
TZOFFSETTO:-0400
TZNAME:EDT
DTSTART:20220313T070000
END:DAYLIGHT
BEGIN:STANDARD
TZOFFSETFROM:-0400
TZOFFSETTO:-0500
TZNAME:EST
DTSTART:20221106T060000
END:STANDARD
BEGIN:DAYLIGHT
TZOFFSETFROM:-0500
TZOFFSETTO:-0400
TZNAME:EDT
DTSTART:20230312T070000
END:DAYLIGHT
BEGIN:STANDARD
TZOFFSETFROM:-0400
TZOFFSETTO:-0500
TZNAME:EST
DTSTART:20231105T060000
END:STANDARD
BEGIN:DAYLIGHT
TZOFFSETFROM:-0500
TZOFFSETTO:-0400
TZNAME:EDT
DTSTART:20240310T070000
END:DAYLIGHT
BEGIN:STANDARD
TZOFFSETFROM:-0400
TZOFFSETTO:-0500
TZNAME:EST
DTSTART:20241103T060000
END:STANDARD
END:VTIMEZONE
BEGIN:VEVENT
DTSTART;TZID=America/New_York:20230108T134500
DTEND;TZID=America/New_York:20230108T170000
DTSTAMP:20260423T092854
CREATED:20221220T210020Z
LAST-MODIFIED:20221228T142309Z
UID:22403-1673185500-1673197200@communityincrisis.org
SUMMARY:Ice Skating Party
DESCRIPTION:Ever want to learn how to skate?  Don’t let fear stop you!! With a few simple techniques taught by a private instructor\, anyone can skate. \nI bet you didn’t know that our Peer Services Supervisor Sarah is a former figure skating instructor. She will be assisting after the lesson as well! \nCome skate with us and ignite a new passion!  You never know\, you could be the next Wayne Gretzky or Michelle Kwan. \nSunday\, January 8 from 1:45pm – 5pm\nFlemington Ice Arena\n426 Case Blvd\, Flemington NJ 08822\n“The only thing cheesy about an ice skating party for adults is the pizza.” \nParty Includes: \n\nAn hour-long party with pizza\, soda and recovery peeps.\n20 minute lesson with a Professional Instructor\nPublic skating session w/ rentals (or bring your own skates!)\n\nYou must RSVP below or by texting Sarah (908) 801-2123.  You may also reach out with any questions or concerns to spopa@communityincrisis.org. \nSpace is limited for this event.  If you must cancel please let us know so we can offer your spot to someone on the waiting list. \nHelp us with our head count by registering HERE for this FREE event.
URL:https://communityincrisis.org/event/ice-skating-party/
LOCATION:Flemington Ice Arena\, 426 Case Blvd\, Flemington\, NJ\, 08822\, United States
END:VEVENT
END:VCALENDAR