BEGIN:VCALENDAR
VERSION:2.0
PRODID:-//Community in Crisis - ECPv6.15.20//NONSGML v1.0//EN
CALSCALE:GREGORIAN
METHOD:PUBLISH
X-WR-CALNAME:Community in Crisis
X-ORIGINAL-URL:https://communityincrisis.org
X-WR-CALDESC:Events for Community in Crisis
REFRESH-INTERVAL;VALUE=DURATION:PT1H
X-Robots-Tag:noindex
X-PUBLISHED-TTL:PT1H
BEGIN:VTIMEZONE
TZID:America/New_York
BEGIN:DAYLIGHT
TZOFFSETFROM:-0500
TZOFFSETTO:-0400
TZNAME:EDT
DTSTART:20210314T070000
END:DAYLIGHT
BEGIN:STANDARD
TZOFFSETFROM:-0400
TZOFFSETTO:-0500
TZNAME:EST
DTSTART:20211107T060000
END:STANDARD
BEGIN:DAYLIGHT
TZOFFSETFROM:-0500
TZOFFSETTO:-0400
TZNAME:EDT
DTSTART:20220313T070000
END:DAYLIGHT
BEGIN:STANDARD
TZOFFSETFROM:-0400
TZOFFSETTO:-0500
TZNAME:EST
DTSTART:20221106T060000
END:STANDARD
BEGIN:DAYLIGHT
TZOFFSETFROM:-0500
TZOFFSETTO:-0400
TZNAME:EDT
DTSTART:20230312T070000
END:DAYLIGHT
BEGIN:STANDARD
TZOFFSETFROM:-0400
TZOFFSETTO:-0500
TZNAME:EST
DTSTART:20231105T060000
END:STANDARD
END:VTIMEZONE
BEGIN:VEVENT
DTSTART;TZID=America/New_York:20220806T130000
DTEND;TZID=America/New_York:20220806T150000
DTSTAMP:20260425T102827
CREATED:20210324T190335Z
LAST-MODIFIED:20220714T133548Z
UID:14023-1659790800-1659798000@communityincrisis.org
SUMMARY:Horses for a Healthy Lifestyle
DESCRIPTION:The Program: \nHorses for a Healthy Lifestyle (HHL)\, a component our Community in Connection\, programming is an equine interaction program in partnership with Mane Stream of Oldwick\, NJ. This free program gives participants the opportunity to relate to each other while partnering with horses in a safe and natural environment under the guidance of EAGALA certified professionals. \nThe Benefits: \nThroughout the HHL experience\, participants will begin to rebuild an alliance of trust\, while learning new skills and improving overall wellbeing. The connection made between participants and the horses is a powerful experience that enhances self-awareness and promotes growth. Horses provide a natural way to build trust and give honest feedback regarding personal feelings and emotions that may not otherwise surface. \nMane Stream \n83 Old Turnpike Road \nOldwick\, NJ 08809 \n  \nRespecting health and safety guidelines\, our group size is currently limited\, therefore registration is required. \nTo attend Horses for a Healthy Lifestyle\, please register HERE. \nIf you have interest in participating in this or any other of our ‘Community in Connection’ programs\, please contact Sarah for additional information spopa@communityincrisis.org.
URL:https://communityincrisis.org/event/horses-for-a-healthy-lifestyle/
LOCATION:Mane Stream\, 83 Old Turnpike Road\, Oldwick\, NJ\, 08809\, United States
END:VEVENT
END:VCALENDAR